BEGIN:VCALENDAR
VERSION:2.0
PRODID:-//FFESSM CODEP 76 - ECPv6.11.2.1//NONSGML v1.0//EN
CALSCALE:GREGORIAN
METHOD:PUBLISH
X-ORIGINAL-URL:https://www.codep76.ffessm-normandie.fr
X-WR-CALDESC:Évènements pour FFESSM CODEP 76
REFRESH-INTERVAL;VALUE=DURATION:PT1H
X-Robots-Tag:noindex
X-PUBLISHED-TTL:PT1H
BEGIN:VTIMEZONE
TZID:Europe/Paris
BEGIN:DAYLIGHT
TZOFFSETFROM:+0100
TZOFFSETTO:+0200
TZNAME:CEST
DTSTART:20240331T010000
END:DAYLIGHT
BEGIN:STANDARD
TZOFFSETFROM:+0200
TZOFFSETTO:+0100
TZNAME:CET
DTSTART:20241027T010000
END:STANDARD
END:VTIMEZONE
BEGIN:VEVENT
DTSTART;VALUE=DATE:20240407
DTEND;VALUE=DATE:20240408
DTSTAMP:20260421T223545
CREATED:20240311T143649Z
LAST-MODIFIED:20240311T143649Z
UID:3569-1712448000-1712534399@www.codep76.ffessm-normandie.fr
SUMMARY:Challenge PSP Port Jérôme sur Seine A vos Palmes
DESCRIPTION:Bonjour à toutes et tous\, \n\n\nVous n’avez toujours pas testé la PSP ? \n\n\nLes challenges de Plongée Sportive “A vos Palmes” sont l’occasion de venir découvrir et pratiquer quelques épreuves simplifiées pour l’occasion; \n\n\nAprès le succès de la saison 2 à Montivilliers\, pour cette 3e saison\, la commission PSP76 et le Club Saint-Jacques sont ravis de vous inviter à participer à cet événement qui aura lieu le dimanche 7 avril à Gravenchon. \n\n\nVous trouverez le dossier d’inscription à télécharger ICI\, ainsi que la présentation de ces challenges. \nLa clôture des inscriptions est prévue le 24 mars. Toutefois\, le nombre de place est limité à 40 PSPeurs par épreuves\, alors ne tardez pas… \nN’hésitez pas à nous contacter si vous souhaitez en savoir plus ou organiser une soirée découverte dans votre club\, sur plongee.sportive.76@gmail.com. \nVous attendant avec impatience. \nMarine – présidente commission PSP 76 \nSylvain – pdt adj PSP Normandie
URL:https://www.codep76.ffessm-normandie.fr/agenda/challenge-psp-port-jerome-sur-seine-a-vos-palmes/
LOCATION:Gravenchon
CATEGORIES:Commission plongée sportive en piscine
ATTACH;FMTTYPE=image/png:https://www.codep76.ffessm-normandie.fr/wp-content/uploads/2024/03/psp-a-vos-palems.png
END:VEVENT
END:VCALENDAR