BEGIN:VCALENDAR
VERSION:2.0
PRODID:-//FFESSM CODEP 76 - ECPv6.11.2.1//NONSGML v1.0//EN
CALSCALE:GREGORIAN
METHOD:PUBLISH
X-WR-CALNAME:FFESSM CODEP 76
X-ORIGINAL-URL:https://www.codep76.ffessm-normandie.fr
X-WR-CALDESC:Évènements pour FFESSM CODEP 76
REFRESH-INTERVAL;VALUE=DURATION:PT1H
X-Robots-Tag:noindex
X-PUBLISHED-TTL:PT1H
BEGIN:VTIMEZONE
TZID:Europe/Paris
BEGIN:DAYLIGHT
TZOFFSETFROM:+0100
TZOFFSETTO:+0200
TZNAME:CEST
DTSTART:20240331T010000
END:DAYLIGHT
BEGIN:STANDARD
TZOFFSETFROM:+0200
TZOFFSETTO:+0100
TZNAME:CET
DTSTART:20241027T010000
END:STANDARD
END:VTIMEZONE
BEGIN:VEVENT
DTSTART;VALUE=DATE:20240120
DTEND;VALUE=DATE:20240121
DTSTAMP:20260422T035306
CREATED:20240104T163304Z
LAST-MODIFIED:20240104T163304Z
UID:3467-1705708800-1705795199@www.codep76.ffessm-normandie.fr
SUMMARY:Formation arbitres PSP
DESCRIPTION:La commission départementale de la Manche propose une nouvelle session de formation arbitre PSP.\nTarif : 20€\n Samedi 20 janvier 2024.\n Lieu : Avranches (50)\n Formation animée par : Charles Oury et Mickael Mourgues : JF2 et Formateurs à l’arbitrage en plongée sportive en piscine \nInscription à partir du lien suivant : https://forms.gle/1V7ZDaaKgjjEjmEb6\nPour plus de renseignements : karl.whisty@laposte.net
URL:https://www.codep76.ffessm-normandie.fr/agenda/formation-arbitres-psp/
LOCATION:Avranches\, Avranches\, 50
CATEGORIES:Commission plongée sportive en piscine
ATTACH;FMTTYPE=image/jpeg:https://www.codep76.ffessm-normandie.fr/wp-content/uploads/2024/01/PSP-2.jpg
END:VEVENT
END:VCALENDAR