BEGIN:VCALENDAR
VERSION:2.0
PRODID:-//FFESSM CODEP 76 - ECPv6.11.2.1//NONSGML v1.0//EN
CALSCALE:GREGORIAN
METHOD:PUBLISH
X-ORIGINAL-URL:https://www.codep76.ffessm-normandie.fr
X-WR-CALDESC:Évènements pour FFESSM CODEP 76
REFRESH-INTERVAL;VALUE=DURATION:PT1H
X-Robots-Tag:noindex
X-PUBLISHED-TTL:PT1H
BEGIN:VTIMEZONE
TZID:Europe/Paris
BEGIN:DAYLIGHT
TZOFFSETFROM:+0100
TZOFFSETTO:+0200
TZNAME:CEST
DTSTART:20240331T010000
END:DAYLIGHT
BEGIN:STANDARD
TZOFFSETFROM:+0200
TZOFFSETTO:+0100
TZNAME:CET
DTSTART:20241027T010000
END:STANDARD
END:VTIMEZONE
BEGIN:VEVENT
DTSTART;VALUE=DATE:20240407
DTEND;VALUE=DATE:20240408
DTSTAMP:20260420T162627
CREATED:20231212T143526Z
LAST-MODIFIED:20231212T143526Z
UID:3448-1712448000-1712534399@www.codep76.ffessm-normandie.fr
SUMMARY:Formation Initiateurs Apnée
DESCRIPTION:VOUS SOUHAITEZ DEVENIR ENCADRANT APNÉE ? \nLa Commission Régionale Apnée FFESSM Normandie organise une formation Initiateurs Apnée. \nVous trouverez les renseignements sur ce niveau sur le site de la FFESSM en cliquant ICI \nCette formation est programmée aux dates ci-dessous : \n\nStage initial : dimanche 7 avril 2024 au CRJS de Petit-Couronne et samedi 28 et dimanche 29 septembre 2024.\nMise en situation en fosse : date et lieu à définir.\nStage final : fin d’année scolaire 2024-2025\n\nCes rendez-vous collectifs à visée pédagogique constituent un socle incontournable de la formation. \nPar ailleurs\, il vous appartient de vous rapprocher d’un MEF1 qui sera votre tuteur durant toute la durée de la formation. Celui-ci vous accompagnera et devra valider les séances requises en pratique en piscine\, et en théorie en salle. \nLe montant d’inscription est de 150 €. Ce coût inclut les frais pour les stages\, les différents documents et supports fournis lors de la formation\, les frais d’hébergement. Les frais de transport restent à la charge des candidats. \nVoici le lien pour poser votre candidature à cette prochaine formation : \nhttps://docs.google.com/forms/d/e/1FAIpQLSeR3SGjdFvxFS5TkzxvqbZTeRvSrkOmEUkWhLRgVnSOA0EHKA/viewform \nLes inscriptions seront validées après examen des dossiers. \nVous êtes également invités au séminaire des cadres et futurs cadres qui aura lieu le 3 février 2024 à Lisieux. Celui-ci comprendra une partie sur les futurs encadrants (infos sur le site ffessm-Normandie.fr). Vous y serez les bienvenus. N’hésitez pas à venir accompagnés de votre futur tuteur MEF1. \nPour tous renseignements complémentaires\, vous pouvez me contacter par mail ou téléphone. \nSylvie Grieu\nPrésidente de la Commission Régionale Apnée\nFFESSM Normandie\n06 78 23 76 83\ngrieusylvie@gmail.com
URL:https://www.codep76.ffessm-normandie.fr/agenda/formation-initiateurs-apnee/
LOCATION:CRJS de Petit-Couronne\, Rue John Fitzgerald Kennedy\, Petit-Couronne\, 76650
CATEGORIES:Commission apnée
ATTACH;FMTTYPE=image/jpeg:https://www.codep76.ffessm-normandie.fr/wp-content/uploads/2023/12/20181212_195757-scaled.jpg
END:VEVENT
BEGIN:VEVENT
DTSTART;TZID=Europe/Paris:20240421T150000
DTEND;TZID=Europe/Paris:20240421T170000
DTSTAMP:20260420T162627
CREATED:20240326T160716Z
LAST-MODIFIED:20240326T160716Z
UID:3584-1713711600-1713718800@www.codep76.ffessm-normandie.fr
SUMMARY:Fosse Apnée du 21/04
DESCRIPTION:La commission apnée du CODEP 76 a le plaisir de vous inviter à la 2e fosse de l’année 2024!\n\n\n\nCette sortie aura lieu le 21/04 de 15h à 17h à la fosse Le Nautilus d’Amiens.\nLe rendez-vous est fixé une demi-heure avant sur place afin d’avoir le temps de se changer et de faire les vérifications administratives de rigueur. (carte de niveau si vous avez\, licence en cours de validité et CACI de moins de 1 an)\n\nN’hésitez pas à prendre un petit goûter à partager en toute convivialité à l’issue de ce bon moment!\n\nLes règlements peuvent se faire de 2 façons (préférentiellement la première):\n– en liquide sur place.\n– m’envoyer le règlement à l’ordre du CODEP 76 au préalable (11 rue docteur Gaston Delbos 76250 Déville-lès-Rouen)\n\nToutefois\, si une pièce administrative ou si le règlement vient à manquer sur place\, nous ne pourrons vous faire participer à la séance.\n\nMerci pour votre compréhension.\n\nLe formulaire d’inscription est le suivant:\nhttps://docs.google.com/forms/d/e/1FAIpQLSed1XGRJdzzeeuqD_r_N1TqsKqlI8WlIrnsXSdDlLYdPgGZaA/viewform?usp=pp_url\n\n\nLe lien de la convention d’accès aux fosses CODEP:\nhttps://docs.google.com/document/d/1S3YtWNUut3FFDmDYD3RvIaiSRBWxkTuJ/edit?usp=sharing&ouid=117500314943106724692&rtpof=true&sd=true\n\nBonne journée à toutes et à tous et au plaisir de vous voir sous l’eau comme en surface!\n\nMickael Arnoult\n\n\n\n\n\nVice-Président Commission Apnée CODEP 76\n06 83 47 44 18
URL:https://www.codep76.ffessm-normandie.fr/agenda/fosse-apnee-du-21-04/
LOCATION:Fosse d’Amiens\, 35 rue Leo Lagrange\, Amiens\, 80080\, France
CATEGORIES:Commission apnée
ATTACH;FMTTYPE=image/jpeg:https://www.codep76.ffessm-normandie.fr/wp-content/uploads/2021/11/free_immersion.jpg
ORGANIZER;CN="Mickael ARNOULT":MAILTO:mickael.arnoult@gmail.com
END:VEVENT
END:VCALENDAR