BEGIN:VCALENDAR
VERSION:2.0
PRODID:-//FFESSM CODEP 76 - ECPv6.11.2.1//NONSGML v1.0//EN
CALSCALE:GREGORIAN
METHOD:PUBLISH
X-WR-CALNAME:FFESSM CODEP 76
X-ORIGINAL-URL:https://www.codep76.ffessm-normandie.fr
X-WR-CALDESC:Évènements pour FFESSM CODEP 76
REFRESH-INTERVAL;VALUE=DURATION:PT1H
X-Robots-Tag:noindex
X-PUBLISHED-TTL:PT1H
BEGIN:VTIMEZONE
TZID:Europe/Paris
BEGIN:DAYLIGHT
TZOFFSETFROM:+0100
TZOFFSETTO:+0200
TZNAME:CEST
DTSTART:20240331T010000
END:DAYLIGHT
BEGIN:STANDARD
TZOFFSETFROM:+0200
TZOFFSETTO:+0100
TZNAME:CET
DTSTART:20241027T010000
END:STANDARD
END:VTIMEZONE
BEGIN:VEVENT
DTSTART;TZID=Europe/Paris:20240203T090000
DTEND;TZID=Europe/Paris:20240203T160000
DTSTAMP:20260420T200317
CREATED:20231212T141005Z
LAST-MODIFIED:20231212T141053Z
UID:3442-1706950800-1706976000@www.codep76.ffessm-normandie.fr
SUMMARY:Séminaire des cadres Apnée Normandie
DESCRIPTION:Nous avons le plaisir de vous inviter à notre prochain séminaire des cadres apnée qui aura lieu le samedi 3 février 2024 à la Salle Mozart\, Place Mozart à Lisieux. \nNous serons ravis de vous retrouver pour ce rendez-vous riche en échanges. \nNous vous remercions de faire suivre cette invitation aux encadrants de votre club et aussi aux futurs candidats à la formation d’initiateurs pour qu’ils puissent s’inscrire et participer à ce séminaire. \n\n9h30 à 10h : Accueil et café\n10h à 11h : La compétition : recommandations d’un champion : Arnauld Manner\n11h à 12h30 : Futurs encadrants : comment les repérer et les accompagner ?\n12h30 à 14h : Repas – café\n14h à 15h30 : La compensation : comment l’enseigner dans nos clubs ?\n16 heures : Clôture du Séminaire\n\nPour participer à ce Séminaire\, vous devez vous inscrire au moyen du formulaire accessible en cliquant ici \nPour le repas\, nous demandons une participation de 10 € à régler au moyen de Hello Asso. Le lien est ici. \nMerci d’avance et à bientôt.\nPour tous renseignements\, contacter Sylvie Grieu\nPrésidente de la Commission Régionale Apnée\ngrieusylvie@gmail.com 06 78 23 76 83
URL:https://www.codep76.ffessm-normandie.fr/agenda/seminaire-des-cadres-apnee-normandie/
LOCATION:Salle Mozart\, Place Mozart\, Lisieux\, 14100
CATEGORIES:Commission apnée
ORGANIZER;CN="Sylvie GRIEU":MAILTO:grieusylvie@gmail.com
END:VEVENT
BEGIN:VEVENT
DTSTART;VALUE=DATE:20240218
DTEND;VALUE=DATE:20240219
DTSTAMP:20260420T200317
CREATED:20240109T165837Z
LAST-MODIFIED:20240109T165837Z
UID:3494-1708214400-1708300799@www.codep76.ffessm-normandie.fr
SUMMARY:Championnat de Normandie d’Apnée
DESCRIPTION:Le Capsub et la Commission Régionale Apnée FFESSM Normandie organisent le Championnat de Normandie d’Apnée à la piscine du Chemin Vert à Caen\, le dimanche 18 février 2024. \n  \n\nCompétitrices – Compétiteurs\n\nLe nombre de compétiteurs est limité. \nSi vous souhaitez participer en tant que compétitrice ou compétiteur\, vous devrez obligatoirement compléter le formulaire de pré-inscription en cliquant ici \nLes compétiteurs devront impérativement se présenter à la piscine pour enregistrement entre 9h15 et 10h (accès aux vestiaires à partir de 9h30 – Briefing à 10h10) \n\nApnéistes de sécurité\, juges et petites mains\n\nPour cette manifestation\, nous avons besoin d’apnéistes de sécurité\, de juges et de petites mains. Toutes les bonnes volontés sont les bienvenues. \nSi vous souhaitez participer à l’organisation de cette compétition\, merci de compléter dès maintenant le formulaire ici \n\nFormation de juges\n\nVous n’êtes pas encore juge mais souhaitez le devenir : Une formation de juges est organisée en parallèle du championnat avec la partie théorique en 2 visioconférences et la partie pratique le matin du championnat. \nVous trouverez tous les renseignements sur le formulaire d’inscription à la formation de juges ici \nPour tous renseignements complémentaires : \nSylvie Grieu\nPrésidente de la Commission Régionale Apnée FFESSM Normandie\ngrieusylvie@gmail.com   06 78 23 76 83 \nNous vous donnons tous rendez-vous à Caen pour ces moments de convivialité autour de notre sport. \nLe comité d’organisation
URL:https://www.codep76.ffessm-normandie.fr/agenda/championnat-de-normandie-dapnee/
LOCATION:Piscine du Chemin Vert\, Caen\, France
CATEGORIES:Commission apnée
ATTACH;FMTTYPE=image/png:https://www.codep76.ffessm-normandie.fr/wp-content/uploads/2024/01/championnat-normandie-apnee.png
ORGANIZER;CN="Sylvie GRIEU":MAILTO:grieusylvie@gmail.com
END:VEVENT
END:VCALENDAR