BEGIN:VCALENDAR
VERSION:2.0
PRODID:-//FFESSM CODEP 76 - ECPv6.11.2.1//NONSGML v1.0//EN
CALSCALE:GREGORIAN
METHOD:PUBLISH
X-WR-CALNAME:FFESSM CODEP 76
X-ORIGINAL-URL:https://www.codep76.ffessm-normandie.fr
X-WR-CALDESC:Évènements pour FFESSM CODEP 76
REFRESH-INTERVAL;VALUE=DURATION:PT1H
X-Robots-Tag:noindex
X-PUBLISHED-TTL:PT1H
BEGIN:VTIMEZONE
TZID:Europe/Paris
BEGIN:DAYLIGHT
TZOFFSETFROM:+0100
TZOFFSETTO:+0200
TZNAME:CEST
DTSTART:20230326T010000
END:DAYLIGHT
BEGIN:STANDARD
TZOFFSETFROM:+0200
TZOFFSETTO:+0100
TZNAME:CET
DTSTART:20231029T010000
END:STANDARD
END:VTIMEZONE
BEGIN:VEVENT
DTSTART;TZID=Europe/Paris:20230319T140000
DTEND;TZID=Europe/Paris:20230319T160000
DTSTAMP:20260421T152022
CREATED:20230207T094345Z
LAST-MODIFIED:20230207T094345Z
UID:3174-1679234400-1679241600@www.codep76.ffessm-normandie.fr
SUMMARY:Fosse Apnée du CODEP76
DESCRIPTION:Bonjour à toutes et à tous\,\nLe CODEP 76 apnée a le plaisir de vous inviter à la 2e fosse de l’année 2023!\nCette sortie aura lieu le 19/03 de 14h à 16h à la fosse Le Nautilus d’Amiens.\nLe rendez-vous est fixé une demi-heure avant sur place afin d’avoir le temps de se changer et de faire les vérifications administratives de rigueur.\n\nN’hésitez pas à prendre un petit goûter à partager en toute convivialité à l’issue de ce bon moment !\n\nLes règlements peuvent se faire de 2 façons:\n– m’envoyer le règlement à l’ordre du CODEP 76 au préalable (11 rue docteur Gaston Delbos 76250 Déville-lès-Rouen)\n– en liquide sur place.\n\nToutefois\, si une pièce administrative ou si le règlement vient à manquer sur place\, nous ne pourrons vous faire participer à la séance. Merci pour votre compréhension.\n\nLe formulaire d’inscription est le suivant:\n\nhttps://forms.gle/pXHJqFhA6jHw1cBc9\n\nLe lien de la convention d’accès aux fosses CODEP:\nhttps://docs.google.com/document/d/1Eal2xV0szzB7POTHZJIUMUxmUJpwYyjC8C_-eqfkwoE/edit?usp=share_link\n\nBonne journée à toutes et à tous et au plaisir de vous voir sous l’eau comme en surface!\n\nMickael\n\nVice-président commission apnée CODEP 76
URL:https://www.codep76.ffessm-normandie.fr/agenda/fosse-apnee-du-codep76/
LOCATION:Fosse d’Amiens\, 35 rue Leo Lagrange\, Amiens\, 80080\, France
CATEGORIES:Commission apnée,Manifestation
ATTACH;FMTTYPE=image/jpeg:https://www.codep76.ffessm-normandie.fr/wp-content/uploads/2023/02/Fosse0005.jpg
ORGANIZER;CN="Mickael ARNOULT":MAILTO:mickael.arnoult@gmail.com
END:VEVENT
END:VCALENDAR