BEGIN:VCALENDAR
VERSION:2.0
PRODID:-//FFESSM CODEP 76 - ECPv6.11.2.1//NONSGML v1.0//EN
CALSCALE:GREGORIAN
METHOD:PUBLISH
X-ORIGINAL-URL:https://www.codep76.ffessm-normandie.fr
X-WR-CALDESC:Évènements pour FFESSM CODEP 76
REFRESH-INTERVAL;VALUE=DURATION:PT1H
X-Robots-Tag:noindex
X-PUBLISHED-TTL:PT1H
BEGIN:VTIMEZONE
TZID:Europe/Paris
BEGIN:DAYLIGHT
TZOFFSETFROM:+0100
TZOFFSETTO:+0200
TZNAME:CEST
DTSTART:20230326T010000
END:DAYLIGHT
BEGIN:STANDARD
TZOFFSETFROM:+0200
TZOFFSETTO:+0100
TZNAME:CET
DTSTART:20231029T010000
END:STANDARD
END:VTIMEZONE
BEGIN:VEVENT
DTSTART;TZID=Europe/Paris:20230108T143000
DTEND;TZID=Europe/Paris:20230108T163000
DTSTAMP:20260421T183330
CREATED:20221227T154907Z
LAST-MODIFIED:20221227T154907Z
UID:3131-1673188200-1673195400@www.codep76.ffessm-normandie.fr
SUMMARY:Fosse apnée - Amiens
DESCRIPTION:C’est avec un grand plaisir que la commission apnée du CODEP 76 vous invite à partager une séance à la fosse du Nautilus à Amiens le 08 janvier 2023 de 14h30 à 16h30.\nA noter que le rdv est fixé 30 à 40 minutes dans le hall de la piscine avant afin de régler le volet administratif.\n\nParticipation de 20 € pour les clubs du CODEP 76 chèque à l’ordre de CODEP 76 (25€ pour les hors Seine-Maritime)\n\nN’hésitez pas à ramener un petit goûter pour prolonger le moment de convivialité à la sortir des vestiaires 😉\n\n\n\nLien convention:\nhttps://docs.google.com/document/d/1Eal2xV0szzB7POTHZJIUMUxmUJpwYyjC8C_-eqfkwoE/edit?usp=sharing\n\nLien d’inscription:\nhttps://docs.google.com/forms/d/e/1FAIpQLSf48tdbx1Nk-1YES5Qprjjci_OoHCQVZKsVrQ6Yysy_1af7kw/viewform?usp=sharing
URL:https://www.codep76.ffessm-normandie.fr/agenda/fosse-apnee-amiens/
LOCATION:Fosse d’Amiens\, 35 rue Leo Lagrange\, Amiens\, 80080\, France
CATEGORIES:Commission apnée,Manifestation
ATTACH;FMTTYPE=image/jpeg:https://www.codep76.ffessm-normandie.fr/wp-content/uploads/2021/11/free_immersion.jpg
ORGANIZER;CN="Mickael ARNOULT":MAILTO:mickael.arnoult@gmail.com
END:VEVENT
END:VCALENDAR