BEGIN:VCALENDAR
VERSION:2.0
PRODID:-//FFESSM CODEP 76 - ECPv6.11.2.1//NONSGML v1.0//EN
CALSCALE:GREGORIAN
METHOD:PUBLISH
X-ORIGINAL-URL:https://www.codep76.ffessm-normandie.fr
X-WR-CALDESC:Évènements pour FFESSM CODEP 76
REFRESH-INTERVAL;VALUE=DURATION:PT1H
X-Robots-Tag:noindex
X-PUBLISHED-TTL:PT1H
BEGIN:VTIMEZONE
TZID:Europe/Paris
BEGIN:DAYLIGHT
TZOFFSETFROM:+0100
TZOFFSETTO:+0200
TZNAME:CEST
DTSTART:20220327T010000
END:DAYLIGHT
BEGIN:STANDARD
TZOFFSETFROM:+0200
TZOFFSETTO:+0100
TZNAME:CET
DTSTART:20221030T010000
END:STANDARD
END:VTIMEZONE
BEGIN:VEVENT
DTSTART;TZID=Europe/Paris:20220723T080000
DTEND;TZID=Europe/Paris:20220724T170000
DTSTAMP:20260422T050424
CREATED:20220630T100715Z
LAST-MODIFIED:20220630T100715Z
UID:2960-1658563200-1658682000@www.codep76.ffessm-normandie.fr
SUMMARY:Stage Apnée - Découverte de la verticalité en milieu naturel
DESCRIPTION:Stage commission apnée codep 76 : base fédérale de Tourlaville\n23 et 24 juillet 2022\nInitiation ateliers verticaux sur la base de plongée de Pôle Plongée Normandie PPN (espace loisirs de Collignon\, 1 rue des algues\, 50110 Tourlaville) \nPLONGEES ESPACE 0-20m \n\n CONDITIONS :\n\nlicence et certificat médical à jour (apnée supérieure à 6m sur le CACI)\npas de condition de niveau\n\n\nTarifs:\n\npour les niveaux débutants : 110€\npour les niveaux ACEL et plus : 80€\nCe tarif comprend les 2 sorties par jour samedi et dimanche encadrées par des moniteurs FFESSM.\n\n\n\nCe prix ne comprend ni les hébergements ni les repas \nSolutions d’hébergements:\nCamping de Collignon rue des Algues 50110 Tourlaville ;\nCamping de Sandaya L’Anse du Brick\, 18 Anse du Brick50330 MAUPERTUS-SUR-MER;\nAuberge de Jeunesse de Cherbourg\, 55\, rue de l’Abbaye 50100 Cherbourg \nPensez au co-voiturage !!! \nInscription auprès de Jacques: j.marette@hotmail.fr\nPOUR S’INSCRIRE FRAIS DE RESERVATION 50€ à REGLER AVANT LE 5 JUILLET 2022
URL:https://www.codep76.ffessm-normandie.fr/agenda/stage-apnee-decouverte-de-la-verticalite-en-milieu-naturel/
LOCATION:PPN – Tourlaville (50) – Pole Plongée Normandie\, Centre Nautique\, 1 rue des algues\, TOURLAVILLE\, 50110\, France
CATEGORIES:Commission apnée,Stages et formations
ATTACH;FMTTYPE=image/jpeg:https://www.codep76.ffessm-normandie.fr/wp-content/uploads/2021/12/20180510_145119-scaled.jpg
ORGANIZER;CN="Jacques MARETTE":MAILTO:j.marette@hotmail.fr
END:VEVENT
END:VCALENDAR