BEGIN:VCALENDAR
VERSION:2.0
PRODID:-//FFESSM CODEP 76 - ECPv6.11.2.1//NONSGML v1.0//EN
CALSCALE:GREGORIAN
METHOD:PUBLISH
X-ORIGINAL-URL:https://www.codep76.ffessm-normandie.fr
X-WR-CALDESC:Évènements pour FFESSM CODEP 76
REFRESH-INTERVAL;VALUE=DURATION:PT1H
X-Robots-Tag:noindex
X-PUBLISHED-TTL:PT1H
BEGIN:VTIMEZONE
TZID:Europe/Paris
BEGIN:DAYLIGHT
TZOFFSETFROM:+0100
TZOFFSETTO:+0200
TZNAME:CEST
DTSTART:20220327T010000
END:DAYLIGHT
BEGIN:STANDARD
TZOFFSETFROM:+0200
TZOFFSETTO:+0100
TZNAME:CET
DTSTART:20221030T010000
END:STANDARD
END:VTIMEZONE
BEGIN:VEVENT
DTSTART;VALUE=DATE:20220501
DTEND;VALUE=DATE:20220502
DTSTAMP:20260422T083716
CREATED:20211217T091527Z
LAST-MODIFIED:20211217T091527Z
UID:2887-1651363200-1651449599@www.codep76.ffessm-normandie.fr
SUMMARY:Formation Apnéiste Expert Eau Libre
DESCRIPTION:Bonjour\, \nLe niveau Apnéiste Expert étant indispensable aux candidats pour commencer un cursus MEF1\, la Commission Régionale Apnée Normandie a décidé de donner la priorité à cette formation en 2022. \nCelle-ci comprendra des cours théoriques\, une formation pratique en fosse de 20 m\, à Némo (33m) et à la base de Beaumont sur Oise. \nVous trouverez les informations détaillées dans le fichier joint à télécharger ICI. \nVoici le lien pour effectuer les inscriptions avant le 31 décembre 2021 : https://forms.gle/N5FdAHojpiSK4LNV9 \nPour tous renseignements :\nSylvie Grieu\nPrésidente de la Commission Régionale Apnée FFESSM Normandie\ngrieusylvie@gmail.com  – 06 78 23 76 83
URL:https://www.codep76.ffessm-normandie.fr/agenda/formation-apneiste-expert-eau-libre/
CATEGORIES:Commission apnée,Stages et formations
ORGANIZER;CN="Sylvie GRIEU":MAILTO:grieusylvie@gmail.com
END:VEVENT
END:VCALENDAR