BEGIN:VCALENDAR
VERSION:2.0
PRODID:-//FFESSM CODEP 76 - ECPv6.11.2.1//NONSGML v1.0//EN
CALSCALE:GREGORIAN
METHOD:PUBLISH
X-ORIGINAL-URL:https://www.codep76.ffessm-normandie.fr
X-WR-CALDESC:Évènements pour FFESSM CODEP 76
REFRESH-INTERVAL;VALUE=DURATION:PT1H
X-Robots-Tag:noindex
X-PUBLISHED-TTL:PT1H
BEGIN:VTIMEZONE
TZID:Europe/Paris
BEGIN:DAYLIGHT
TZOFFSETFROM:+0100
TZOFFSETTO:+0200
TZNAME:CEST
DTSTART:20210328T010000
END:DAYLIGHT
BEGIN:STANDARD
TZOFFSETFROM:+0200
TZOFFSETTO:+0100
TZNAME:CET
DTSTART:20211031T010000
END:STANDARD
END:VTIMEZONE
BEGIN:VEVENT
DTSTART;TZID=Europe/Paris:20211212T170000
DTEND;TZID=Europe/Paris:20211212T190000
DTSTAMP:20260422T171222
CREATED:20211112T150204Z
LAST-MODIFIED:20211112T150204Z
UID:2849-1639328400-1639335600@www.codep76.ffessm-normandie.fr
SUMMARY:Fosse apnée le 12/12/21
DESCRIPTION:La commission apnée du CODEP76 organise une fosse de perfectionnement ou d’initiation à l’apnée verticale le dimanche 12 décembre de 17h à 19h à Conflans. \nICI le lien pour vous inscrire. \nEt ICI la charte de participation aux fosses CODEP
URL:https://www.codep76.ffessm-normandie.fr/agenda/fosse-apnee-le-12-12-21/
LOCATION:Fosse de Conflans\, 8 rue Henri Dunant\, Conflans-Sainte-Honorine\, 78700\, France
CATEGORIES:Commission apnée,Stages et formations
ORGANIZER;CN="Mickael ARNOULT":MAILTO:mickael.arnoult@gmail.com
END:VEVENT
END:VCALENDAR